BEGIN:VCALENDAR
VERSION:2.0
CALSCALE:GREGORIAN
PRODID:-//MyApp//Calendar 1.0//EN
BEGIN:VEVENT
METHOD:PUBLISH
UID:10007@regionalniportaly.cz
DTSTAMP:20260421T062120Z
DTSTART;VALUE=DATE:20170424
DTEND;VALUE=DATE:20170425
SUMMARY:Katie Bradley (UK)
DESCRIPTION:Koná se v: Národní dům	 	\nČas představení: od 19:00	 	\nCena vstupenky: 120\,- kč\nKatie Bradley je úžasná zpěvačka a performerka\, špičková hráčka na foukací harmoniku a má v sobě skutečnou lásku k blues.\nKatie Bradley – zpěv\, harmonika\, Antonín Dlapa – kytara\, Matěj Černý – baskytara\, Tomáš Hobzek – bicí
LOCATION:Třebíč
END:VEVENT
END:VCALENDAR