BEGIN:VCALENDAR
VERSION:2.0
CALSCALE:GREGORIAN
PRODID:-//MyApp//Calendar 1.0//EN
BEGIN:VEVENT
METHOD:PUBLISH
UID:11775@regionalniportaly.cz
DTSTAMP:20260421T021913Z
DTSTART;VALUE=DATE:20170729
DTEND;VALUE=DATE:20170730
SUMMARY:Mini country festival Značkovací železo
DESCRIPTION:Moravské Budějovice – hasičský areál na letišti\n\nPořádá Sbor dobrovolných hasičů Moravské Budějovice ve spolupráci s MKS Beseda. Účinkují kapely: Tuláci Moravské Budějovice a Druhej dech – old boys Třebíč. Od 19 do 21 hodin možnost projížďky v bryčce tažené koňmi. Začátek v 19 hodin. Vstupné 50\,- Kč.
LOCATION:Moravské Budějovice
END:VEVENT
END:VCALENDAR