BEGIN:VCALENDAR
VERSION:2.0
CALSCALE:GREGORIAN
PRODID:-//MyApp//Calendar 1.0//EN
BEGIN:VEVENT
METHOD:PUBLISH
UID:11778@regionalniportaly.cz
DTSTAMP:20260421T021902Z
DTSTART;VALUE=DATE:20170901
DTEND;VALUE=DATE:20170902
SUMMARY:Loučení s prázdninami
DESCRIPTION:MKS Beseda Vás zve na tradiční konco-prázdninový večírek. Vystoupí: Perutě s Milanem Peroutkou\, Iron Soul\, JackOff\, Paradoxx\, Tady nikdo není\, Veveho tančírna. Zastřešená scéna i bar. Začátek v 18.30 hodin. Vstupné50\,- Kč.
LOCATION:Moravské Budějovice
END:VEVENT
END:VCALENDAR