BEGIN:VCALENDAR
VERSION:2.0
CALSCALE:GREGORIAN
PRODID:-//MyApp//Calendar 1.0//EN
BEGIN:VEVENT
METHOD:PUBLISH
UID:12138@regionalniportaly.cz
DTSTAMP:20260421T021943Z
DTSTART;VALUE=DATE:20170831
DTEND;VALUE=DATE:20170901
SUMMARY:Poslední prázdninová párty - 10 let klubu eMBečko
DESCRIPTION:Přijď si užít jednu z posledních párty o prázdninách a oslavit 10 let klubu eMBečko. Vstup je jako vždy zdarma. Můžeš se těšit na hodně zábavy\, grilované buřty\, nebude chybět ani dort \;). Zájemci budou mít možnost zkrášlit se ve vlasovém koutku nebo si dát turnaj v páce.\nMožná třeba potkáš i pracovníky\, kteří už v eMBečku dávno nepracují. \nTaky budeme SOUTĚŽIT O VÝLET S NÁMI NA PAINTBALL - to si nemůžeš nechat ujít!!!
LOCATION:Moravské Budějovice
END:VEVENT
END:VCALENDAR