BEGIN:VCALENDAR
VERSION:2.0
CALSCALE:GREGORIAN
PRODID:-//MyApp//Calendar 1.0//EN
BEGIN:VEVENT
METHOD:PUBLISH
UID:12762@regionalniportaly.cz
DTSTAMP:20260421T013614Z
DTSTART;VALUE=DATE:20171103
DTEND;VALUE=DATE:20171104
SUMMARY:Lampionový průvod se strašidly
DESCRIPTION:
LOCATION:Jaroměřice nad Rokytnou
END:VEVENT
END:VCALENDAR