BEGIN:VCALENDAR
VERSION:2.0
CALSCALE:GREGORIAN
PRODID:-//MyApp//Calendar 1.0//EN
BEGIN:VEVENT
METHOD:PUBLISH
UID:17355@regionalniportaly.cz
DTSTAMP:20260421T133847Z
DTSTART;VALUE=DATE:20190106
DTEND;VALUE=DATE:20190107
SUMMARY:„Ať žije republika“ - Výstava dokumentů k roku 1918
DESCRIPTION:18. 10. 2018 - 6. 1. \n\nVýstavní síň Předzámčí\, Zámek Třebíč\n\nVernisáž proběhne 17. 10. 2018 od 17:00 hod\n\nOtevřeno denně kromě pondělí
LOCATION:Třebíč
END:VEVENT
END:VCALENDAR