BEGIN:VCALENDAR
VERSION:2.0
CALSCALE:GREGORIAN
PRODID:-//MyApp//Calendar 1.0//EN
BEGIN:VEVENT
METHOD:PUBLISH
UID:17362@regionalniportaly.cz
DTSTAMP:20260421T144513Z
DTSTART;VALUE=DATE:20181028
DTEND;VALUE=DATE:20181029
SUMMARY:Oslavy 100. výročí vzniku Československé republiky
DESCRIPTION:náměstí Míru\, zámecký park\n\nPřijměte srdečné pozvání na slavnost BUĎME SPOLU konanou dne 28. října 2018 při oslavách 100 let vzniku samostatného Československa\, které se ponesou v duchu první republiky.\n\nProgram: Od 15.00 slavnostní zasazení Stromu republiky (Zámecký park vedle spořitelny)\, reprodukovaná hudba. Od 16.00 program na náměstí Míru u Památníku věčné slávy – vystoupení folklorního souboru Škrpál a Škrpálníček\; – Slavnostní proslovy zástupců města a pokládání věnců\; – Dechová hudba pod vedením Miroslava Kratochvíla\; – Slavnostní ohňostroj.
LOCATION:Moravské Budějovice
END:VEVENT
END:VCALENDAR