BEGIN:VCALENDAR
VERSION:2.0
CALSCALE:GREGORIAN
PRODID:-//MyApp//Calendar 1.0//EN
BEGIN:VEVENT
METHOD:PUBLISH
UID:17445@regionalniportaly.cz
DTSTAMP:20260421T131430Z
DTSTART;VALUE=DATE:20181117
DTEND;VALUE=DATE:20181118
SUMMARY:Zabijačkové hody a Dukovanský košt pálenek
DESCRIPTION:Zámek Dukovany\, Obec Dukovany a fotbalový klub SFK Dukovany 2001 Vás srdečně zvou na VIII. Zabijačkové hody a IV. Dukovanský košt pálenek.\n\nK tanci a poslechu zahraje kapela Pantofláči\nTombola\nProdej výrobků dětí ze ZŠ a MŠ Dukovany\nZabijačkové speciality lze zakoupit pouze ke konzumaci na místě\n\nVstup na košt pálenek je 120\,- (v ceně je sklenička\, katalog a 10 vzorků pálenek
LOCATION:Dukovany
END:VEVENT
END:VCALENDAR