BEGIN:VCALENDAR
VERSION:2.0
CALSCALE:GREGORIAN
PRODID:-//MyApp//Calendar 1.0//EN
BEGIN:VEVENT
METHOD:PUBLISH
UID:17496@regionalniportaly.cz
DTSTAMP:20260421T161229Z
DTSTART;VALUE=DATE:20181028
DTEND;VALUE=DATE:20181029
SUMMARY:Třebíč slaví stovku!
DESCRIPTION:Třebíč slaví stovku! Srdečně vás zveme na oslavy stého výročí vzniku republiky. Od pátku do neděle.
LOCATION:Třebíč
END:VEVENT
END:VCALENDAR