BEGIN:VCALENDAR
VERSION:2.0
CALSCALE:GREGORIAN
PRODID:-//MyApp//Calendar 1.0//EN
BEGIN:VEVENT
METHOD:PUBLISH
UID:17503@regionalniportaly.cz
DTSTAMP:20260421T131523Z
DTSTART;VALUE=DATE:20181209
DTEND;VALUE=DATE:20181210
SUMMARY:Třebíčský Flerjarmark
DESCRIPTION:Od 10:00 hod.\, Hotel Atom Třebíč\n\nVánoční Třebíčký Flerjarmark... přijďte si užít předvánoční atmosféru bez stresu a shonu.Přijďte nakoupit originální vánoční dárky nebo si je sami vyrobit. Máte se na co těšit ... ručně vyráběné originální šperky\, keramika\, vánoční dekorace\,ručně vyráběná čokoláda\, dámská a dětská móda a mnoho dalšího prodejci se ještě hlásí ..
LOCATION:Třebíč
END:VEVENT
END:VCALENDAR