BEGIN:VCALENDAR
VERSION:2.0
CALSCALE:GREGORIAN
PRODID:-//MyApp//Calendar 1.0//EN
BEGIN:VEVENT
METHOD:PUBLISH
UID:17545@regionalniportaly.cz
DTSTAMP:20260421T220925Z
DTSTART;VALUE=DATE:20181125
DTEND;VALUE=DATE:20181126
SUMMARY:Zvěřinové hody v dalešickém pivovaru
DESCRIPTION:Tradiční tématická víkendová akce Pivovarské restaurace :-) Zvěřinové speciality v tradičních i netradičních úpravách. Doporučujeme rezervaci stolu na rezervace@pivovar-dalesice.cz nebo 568 860 942. \nTěšíme se na Vás :-)
LOCATION:Dalešice
END:VEVENT
END:VCALENDAR