BEGIN:VCALENDAR
VERSION:2.0
CALSCALE:GREGORIAN
PRODID:-//MyApp//Calendar 1.0//EN
BEGIN:VEVENT
METHOD:PUBLISH
UID:17683@regionalniportaly.cz
DTSTAMP:20260421T192204Z
DTSTART;VALUE=DATE:20181124
DTEND;VALUE=DATE:20181125
SUMMARY:8. Vánoční Kulturní Trhy
DESCRIPTION:Od 10:00 hod.\, Letní kino Jemnice\n\nPřijďte na již osmé Vánoční Kulturní Trhy
LOCATION:Jemnice
END:VEVENT
END:VCALENDAR