BEGIN:VCALENDAR
VERSION:2.0
CALSCALE:GREGORIAN
PRODID:-//MyApp//Calendar 1.0//EN
BEGIN:VEVENT
METHOD:PUBLISH
UID:17747@regionalniportaly.cz
DTSTAMP:20260420T144910Z
DTSTART;VALUE=DATE:20181111
DTEND;VALUE=DATE:20181112
SUMMARY:Svatomartinské slavnosti
DESCRIPTION:Od 11:11 hod.\, Karlovo náměstí\n\nVelkolepá celodenní oslava svátku populárního světce\, tradičně spojovaná s konzumací pečené husy a mladého vína. Bohatý kulturní program vyvrcholí příjezdem Svatého Martina na bílém koni s doprovodem ozbrojenců.
LOCATION:Třebíč
END:VEVENT
END:VCALENDAR