BEGIN:VCALENDAR
VERSION:2.0
CALSCALE:GREGORIAN
PRODID:-//MyApp//Calendar 1.0//EN
BEGIN:VEVENT
METHOD:PUBLISH
UID:17849@regionalniportaly.cz
DTSTAMP:20260421T131450Z
DTSTART;VALUE=DATE:20181116
DTEND;VALUE=DATE:20181117
SUMMARY:Den boje za svobodu a demokracii
DESCRIPTION:Od 17:00 hod\, Moravské Budějovice\, náměstí Míru\n\nPřipomeňme si události spojené se 17. listopadem.\nProgram:\n17.00 lampionový průvod od Penny marketu\; \n17.20 program na náměstí Míru: proslov starosty na náměstí Míru\;\npísně K. Kryla v podání Radka Smetany\;  \nZÁVĚREM OHŇOSTROJ. Svařák\, čaj.
LOCATION:Moravské Budějovice
END:VEVENT
END:VCALENDAR