BEGIN:VCALENDAR
VERSION:2.0
CALSCALE:GREGORIAN
PRODID:-//MyApp//Calendar 1.0//EN
BEGIN:VEVENT
METHOD:PUBLISH
UID:17896@regionalniportaly.cz
DTSTAMP:20260421T100410Z
DTSTART;VALUE=DATE:20190113
DTEND;VALUE=DATE:20190114
SUMMARY:Zdeněk Šplíchal - Vědomí ne)Skutečnosti
DESCRIPTION:Galerie Malovaný dům\, od 14. 11. 2018  do 13. 1. 2019.\n\nVýstava maleb\, kreseb a objektů Zdeňka Šplíchala s názvem Vědomí ne)Skutečnosti.
LOCATION:Třebíč
END:VEVENT
END:VCALENDAR