BEGIN:VCALENDAR
VERSION:2.0
CALSCALE:GREGORIAN
PRODID:-//MyApp//Calendar 1.0//EN
BEGIN:VEVENT
METHOD:PUBLISH
UID:17906@regionalniportaly.cz
DTSTAMP:20260421T115946Z
DTSTART;VALUE=DATE:20181205
DTEND;VALUE=DATE:20181206
SUMMARY:Mikuláš na náměstí a Vypouštění balónků s přáním k Vánocům
DESCRIPTION:5. prosince k nám zavítá Mikuláš s doprovodem anděla a čertů. Předtím si společně s dětmi vypustíme balónky s přáním k Vánocům.
LOCATION:Jaroměřice nad Rokytnou
END:VEVENT
END:VCALENDAR