BEGIN:VCALENDAR
VERSION:2.0
CALSCALE:GREGORIAN
PRODID:-//MyApp//Calendar 1.0//EN
BEGIN:VEVENT
METHOD:PUBLISH
UID:17912@regionalniportaly.cz
DTSTAMP:20260421T120059Z
DTSTART;VALUE=DATE:20181209
DTEND;VALUE=DATE:20181210
SUMMARY:Vánoce na zámku Jaroměřice nad Rokytnou 2018
DESCRIPTION:8. 12. 2018–9. 12. 2018\n\nPo oba dva dny tradiční adventní jarmark a výstava „ Vánoce na zámku“\, aneb jak se dříve slavilo \na pestrý kulturní program.\n\nSobota 8. prosince 2018 \n\n10.00 – žonglérské představení – Komedianti na káře\n\n11.00 – pohádka\, Prince Nebojsa – Komedianti na káře\n\n13.00 – módní přehlídka – trička pí. Evženie Chmelové\n\n14.00 – pohádka\, Velký sněm nebešťanů aneb čtvero pokušení – Zámecké divadlo\, Jaroměřice nad Rokytnou\n\n15.00 – politická pohádka pro dospělé i děti\, Drak\, divadlo Hurdiska\, hrají žáci a učitelé SŠ Třebíč\n\n16.00 – představení k 100. Výročí vzniku ČSR\, Kramáři – Komedianti na káře\n\n \n\nNeděle 9.00 prosince 2018\n\n10.00 – žonglérské představení – Komedianti na káře\n\n11.00 – představení k 100. Výročí vzniku ČSR\, Kramáři – Komedianti na káře\n\n13.30 – pohádka\, Velký sněm nebešťanů aneb čtvero pokušení – Zámecké divadlo\, Jaroměřice nad Rokytnou\n\n15.00 – pohádka\, Prince Nebojsa – Komedianti na káře
LOCATION:Jaroměřice nad Rokytnou
END:VEVENT
END:VCALENDAR