BEGIN:VCALENDAR
VERSION:2.0
CALSCALE:GREGORIAN
PRODID:-//MyApp//Calendar 1.0//EN
BEGIN:VEVENT
METHOD:PUBLISH
UID:17913@regionalniportaly.cz
DTSTAMP:20260421T192258Z
DTSTART;VALUE=DATE:20181124
DTEND;VALUE=DATE:20181125
SUMMARY:Janičky rukodělné dílničky
DESCRIPTION:13:00 - 16:00\, SPORT-V-HOTEL Hrotovice\n\nJaničky rukodělné dílničky
LOCATION:Hrotovice
END:VEVENT
END:VCALENDAR