BEGIN:VCALENDAR
VERSION:2.0
CALSCALE:GREGORIAN
PRODID:-//MyApp//Calendar 1.0//EN
BEGIN:VEVENT
METHOD:PUBLISH
UID:17915@regionalniportaly.cz
DTSTAMP:20260421T114405Z
DTSTART;VALUE=DATE:20181205
DTEND;VALUE=DATE:20181206
SUMMARY:Mikulášská nadílka
DESCRIPTION:Jako každý rok\, tak i letos budou mít Třebíčané možnost setkat se s Mikulášem\, andělem a čerty přímo na Karlově náměstí.\n\nDěti dostanou od svatého muže ovoce\, ti odvážnější mohou vystoupit na pódiu s připravenou básničkou či písničkou.\n\nČekání na příchod Mikuláše zkrátí přítomným v úvodu hraná pohádka v podání Divadelního spolku Ampulka - JAK SE DĚVČE DO PEKLA PROPADLO
LOCATION:Třebíč
END:VEVENT
END:VCALENDAR