BEGIN:VCALENDAR
VERSION:2.0
CALSCALE:GREGORIAN
PRODID:-//MyApp//Calendar 1.0//EN
BEGIN:VEVENT
METHOD:PUBLISH
UID:18181@regionalniportaly.cz
DTSTAMP:20260421T115955Z
DTSTART;VALUE=DATE:20181205
DTEND;VALUE=DATE:20181206
SUMMARY:Adventní dostaveníčko v Rokytnici nad Rokytnou
DESCRIPTION:Na návsi v Rokytnici od 16.00 hodin\n\nKrátké přání pronesou starosta městyse i administrátor farnosti a samozřejmě přijde Mikuláš se svým andělským
LOCATION:Rokytnice nad Rokytnou
END:VEVENT
END:VCALENDAR