BEGIN:VCALENDAR
VERSION:2.0
CALSCALE:GREGORIAN
PRODID:-//MyApp//Calendar 1.0//EN
BEGIN:VEVENT
METHOD:PUBLISH
UID:18182@regionalniportaly.cz
DTSTAMP:20260421T175146Z
DTSTART;VALUE=DATE:20181205
DTEND;VALUE=DATE:20181206
SUMMARY:Setkání s Mikulášem\, čerty a anděly
DESCRIPTION:Zámecké nádvoří v Dukovanech od 17:00 hod.\n\nSetkání s Mikulášem\, čerty a anděly.
LOCATION:Dukovany
END:VEVENT
END:VCALENDAR