BEGIN:VCALENDAR
VERSION:2.0
CALSCALE:GREGORIAN
PRODID:-//MyApp//Calendar 1.0//EN
BEGIN:VEVENT
METHOD:PUBLISH
UID:18183@regionalniportaly.cz
DTSTAMP:20260424T152552Z
DTSTART;VALUE=DATE:20181209
DTEND;VALUE=DATE:20181210
SUMMARY:Vánoční koncert na zámku
DESCRIPTION:Od 17:00 hod.\, sál Pantheon v Zámku Dukovany\n\nVánoční koncert vážné hudby v zámecké sále Pantheon v neděli 9.12.2018 od 17\,00 hodin.\n\nÚčinkují: Jiří Hošek (violoncello\, varhany)\, MgA. Jan Ždánský (violoncello)\n\nProgram: sklady A. Krafta\, D.Poppera\,. J. Haydna
LOCATION:Dukovany
END:VEVENT
END:VCALENDAR