BEGIN:VCALENDAR
VERSION:2.0
CALSCALE:GREGORIAN
PRODID:-//MyApp//Calendar 1.0//EN
BEGIN:VEVENT
METHOD:PUBLISH
UID:18354@regionalniportaly.cz
DTSTAMP:20260421T100945Z
DTSTART;VALUE=DATE:20181221
DTEND;VALUE=DATE:20181222
SUMMARY:Pivovarský vánoční raut
DESCRIPTION:Vezměte rodinu\, přátele a přijďte si odpočinout od předvánočního shonu do Dalešic - náš šéfkuchař pro Vás připravil pivovarský vánoční raut. Dalešické pivo na čepu samozřejmě nebude chybět! \;-) \n\nZa uvedenou cenu můžete z rautového stolu sníst neomezeně\, co si budete přát. \n\nOtevíráme v 11:00 a doporučujeme rezervaci - 568 860 942 nebo rezervace@pivovar-dalesice.cz\nVstupné: dospělí 490\,- \nděti 7-12 let 250\,- \nděti do 6 let zdarma
LOCATION:Dalešice
END:VEVENT
END:VCALENDAR