BEGIN:VCALENDAR
VERSION:2.0
CALSCALE:GREGORIAN
PRODID:-//MyApp//Calendar 1.0//EN
BEGIN:VEVENT
METHOD:PUBLISH
UID:18402@regionalniportaly.cz
DTSTAMP:20260421T115859Z
DTSTART;VALUE=DATE:20181220
DTEND;VALUE=DATE:20181221
SUMMARY:Vánoční koncert s Věrou Martinovou
DESCRIPTION:Od 19:00 hod.\, MKS Beseda – velký sál\n\nVánoční koncert známé české country zpěvačky\, kterou není třeba představovat\, a její kapely. Začátek v 19 hodin. Vstupné 250\,- Kč v předprodeji\, 290\,- Kč na místě.
LOCATION:Moravské Budějovice
END:VEVENT
END:VCALENDAR