BEGIN:VCALENDAR
VERSION:2.0
CALSCALE:GREGORIAN
PRODID:-//MyApp//Calendar 1.0//EN
BEGIN:VEVENT
METHOD:PUBLISH
UID:18405@regionalniportaly.cz
DTSTAMP:20260421T114339Z
DTSTART;VALUE=DATE:20181231
DTEND;VALUE=DATE:20190101
SUMMARY:Advent v Hrotovicích
DESCRIPTION:Advent v Hrotovicích přináší kulturní program do 31. prosince 2018!
LOCATION:Hrotovice
END:VEVENT
END:VCALENDAR