BEGIN:VCALENDAR
VERSION:2.0
CALSCALE:GREGORIAN
PRODID:-//MyApp//Calendar 1.0//EN
BEGIN:VEVENT
METHOD:PUBLISH
UID:18819@regionalniportaly.cz
DTSTAMP:20260421T131543Z
DTSTART;VALUE=DATE:20190215
DTEND;VALUE=DATE:20190216
SUMMARY:Městský ples
DESCRIPTION:Od 20:00 hod.\, Sport V hotel Hrotovice\n\nMěstský ples\n\n\nPředprodej od 4.2.2019 v Městské knihovně v Hrotovicích
LOCATION:Hrotovice
END:VEVENT
END:VCALENDAR