BEGIN:VCALENDAR
VERSION:2.0
CALSCALE:GREGORIAN
PRODID:-//MyApp//Calendar 1.0//EN
BEGIN:VEVENT
METHOD:PUBLISH
UID:18899@regionalniportaly.cz
DTSTAMP:20260421T131533Z
DTSTART;VALUE=DATE:20190226
DTEND;VALUE=DATE:20190227
SUMMARY:Festival tataráků
DESCRIPTION:Jste milovníky syrového\, jemně škrábaného nebo krájeného\, případně mletého masa? :-)\nTak to je bezva! V tatarákovém týdnu si pak u nás totiž přijdete na své \;-)\nFrancouzský telecí tatarák\nTatarák z hovězího srdce\nAsijský hovězí tatarák s koriandrem\nLososový tatarák\nA "nemasaře" o hladu taky nenecháme:\nHoubový a dýňový tatarák. \nDoporučujeme rezervaci na rezervace@pivovar-dalesice.cz nebo 568 860 942.!
LOCATION:Dalešice
END:VEVENT
END:VCALENDAR