BEGIN:VCALENDAR
VERSION:2.0
CALSCALE:GREGORIAN
PRODID:-//MyApp//Calendar 1.0//EN
BEGIN:VEVENT
METHOD:PUBLISH
UID:20018@regionalniportaly.cz
DTSTAMP:20260421T115918Z
DTSTART;VALUE=DATE:20190427
DTEND;VALUE=DATE:20190428
SUMMARY:XXVI. Jarní pochod ke Dni Země
DESCRIPTION:Od 8:00 hod.\, \n\nV sobotu se v Jemnici uskuteční již XXV.I ročník tradičního Jarního pochodu ku příležitosti Dne Země.\n\nVybírat můžete z tras 10\, 15\, 25 a 50 km.\n\nStart bude probíhat od 8.00 do 10.00 hod. u skautské klubovny na dopravním hřišti (u autobusového nádraží). \n\nNa startu i během trasy pro Vás budou připraveny zajímavé hry a soutěže o ceny.\n\nZpřístupněna bude také věž kostela sv. Stanislava. V cíli nebude chybět ani zasloužené občerstvení.
LOCATION:Jemnice
END:VEVENT
END:VCALENDAR