BEGIN:VCALENDAR
VERSION:2.0
CALSCALE:GREGORIAN
PRODID:-//MyApp//Calendar 1.0//EN
BEGIN:VEVENT
METHOD:PUBLISH
UID:20877@regionalniportaly.cz
DTSTAMP:20260420T001840Z
DTSTART;VALUE=DATE:20190818
DTEND;VALUE=DATE:20190819
SUMMARY:Proměny vnitřní krajiny
DESCRIPTION:26. 6. - 18. 8. 2019\, Galerie Malovaný dům\n\nVýstava soch Tei Dohnalové s názvem Proměny vnitřní krajiny
LOCATION:Třebíč
END:VEVENT
END:VCALENDAR