BEGIN:VCALENDAR
VERSION:2.0
CALSCALE:GREGORIAN
PRODID:-//MyApp//Calendar 1.0//EN
BEGIN:VEVENT
METHOD:PUBLISH
UID:29342@regionalniportaly.cz
DTSTAMP:20260423T215327Z
DTSTART;VALUE=DATE:20220920
DTEND;VALUE=DATE:20220921
SUMMARY:Koncert Kruhu přátel hudby: Ivan Ženatý - Miroslav Sekera
DESCRIPTION:
LOCATION:Třebíč
END:VEVENT
END:VCALENDAR