BEGIN:VCALENDAR
VERSION:2.0
CALSCALE:GREGORIAN
PRODID:-//MyApp//Calendar 1.0//EN
BEGIN:VEVENT
METHOD:PUBLISH
UID:29357@regionalniportaly.cz
DTSTAMP:20260423T215353Z
DTSTART;VALUE=DATE:20220915
DTEND;VALUE=DATE:20220916
SUMMARY:Lauren Henderson Quartet
DESCRIPTION:19.00 – Národní dům                                   Jazzový koncert\nLAUREN HENDERSON QUARTET\nLauren Henderson (USA) – zpěv\, Walter Fischbacher (USA) – klávesy\, Petr Dvorský (CZ) – kontrabas\, Alex Bernath (D) – bicí Lauren Henderson je jazzová\, latin-jazzová\, soulová a fusion zpěvačka a skladatelka původem z Massachusetts\, jejíž ústředním uměleckým tématem je karibské a latinské hudební dědictví. Žije v New Yorku\, kde pravidelně hrává ve vyhlášených klubech a má za sebou již i světové turné. Prestižní Downbeat Magazine ji nazval „novou vokální hvězdou\, pulzující životem“. Laurenino různorodé hudební pozadí je hluboce zakořeněno v jazzu a je ovlivněno zpěvačkami\, jako jsou dodnes nedostižná Američanka Sarah Vaughan či Kubánka Omara Portuondo.\nVstupné: 180\,-  \nPředprodej od 18. 8. 2022
LOCATION:Třebíč
END:VEVENT
END:VCALENDAR