BEGIN:VCALENDAR
VERSION:2.0
CALSCALE:GREGORIAN
PRODID:-//MyApp//Calendar 1.0//EN
BEGIN:VEVENT
METHOD:PUBLISH
UID:29548@regionalniportaly.cz
DTSTAMP:20260425T111805Z
DTSTART;VALUE=DATE:20221010
DTEND;VALUE=DATE:20221011
SUMMARY:Petr Rezek s kapelou Nop Band
DESCRIPTION:Koncert popové legendy Petra Rezka v doprovodu energické kapely Nop Band.\nNestárnoucí hvězda a hudební partner Hany Zagorové vás svými písněmi jako jsou Přátelství\, Prší krásně či Modrá zem zavede do (krás) 80. a 90. let a navodí tak nádhernou atmosféru\, na kterou budete chtít dlouho vzpomínat. 
LOCATION:Třebíč
END:VEVENT
END:VCALENDAR