BEGIN:VCALENDAR
VERSION:2.0
CALSCALE:GREGORIAN
PRODID:-//MyApp//Calendar 1.0//EN
BEGIN:VEVENT
METHOD:PUBLISH
UID:29718@regionalniportaly.cz
DTSTAMP:20260423T183847Z
DTSTART;VALUE=DATE:20221019
DTEND;VALUE=DATE:20221020
SUMMARY:Hop Trop - koncert HS
DESCRIPTION:I. KONCERT HUDEBNÍHO SALONU\n Ladislav Huberťák Kučera – šestistrunná kytara\, zpěv\, Jaroslav Samson Lenk – devítistrunná kytara\, zpěv\, Jaromír Šroub Vondra – kontrabas\, zpěv\nKoncert legendární trampské skupiny\, která hraje již čtyřicátou druhou sezónu v původním složení.
LOCATION:Třebíč
END:VEVENT
END:VCALENDAR