BEGIN:VCALENDAR
VERSION:2.0
CALSCALE:GREGORIAN
PRODID:-//MyApp//Calendar 1.0//EN
BEGIN:VEVENT
METHOD:PUBLISH
UID:30224@regionalniportaly.cz
DTSTAMP:20260423T143649Z
DTSTART;VALUE=DATE:20221203
DTEND;VALUE=DATE:20221204
SUMMARY:Adventní prohlídky na třebíčské bazilice
DESCRIPTION:Rezervace nutná\nBazilika sv. Prokopa: 568 610 022\, 777 746 982\, infobazilika@mkstrebic.cz
LOCATION:Třebíč
END:VEVENT
END:VCALENDAR