BEGIN:VCALENDAR
VERSION:2.0
CALSCALE:GREGORIAN
PRODID:-//MyApp//Calendar 1.0//EN
BEGIN:VEVENT
METHOD:PUBLISH
UID:31055@regionalniportaly.cz
DTSTAMP:20260423T074031Z
DTSTART;VALUE=DATE:20230211
DTEND;VALUE=DATE:20230212
SUMMARY:Šmoulí karneval
DESCRIPTION:
LOCATION:Třebíč
END:VEVENT
END:VCALENDAR