BEGIN:VCALENDAR
VERSION:2.0
CALSCALE:GREGORIAN
PRODID:-//MyApp//Calendar 1.0//EN
BEGIN:VEVENT
METHOD:PUBLISH
UID:31177@regionalniportaly.cz
DTSTAMP:20260423T090438Z
DTSTART;VALUE=DATE:20230208
DTEND;VALUE=DATE:20230209
SUMMARY:Vladimír Hron
DESCRIPTION:„Bavíme se s Vláďou Hronem“\nVladimír Hron – chameleon českého showbyznysu\, moderátor\, bavič a imitátor\, držitel čtyř televizních cen TýTý.\nHronovy dokonalé imitační schopnosti nejznámějších domácích i světových hvězd vás přivedou do varu. Vtipné spojováky a příběhy písní\, které vedly příčky tehdejších hitparád\, to je hudební menu servírované v nejžádanějším zábavném pořadu krále českých hudebních imitátorů.\nZačátek v 19 hodin\,\nVstupné: 240\,-  260\,-  280\,-   seinoři: 210\,-  230\,-  250\,-\nPředprodej od 11. 2. 2023
LOCATION:Třebíč
END:VEVENT
END:VCALENDAR