BEGIN:VCALENDAR
VERSION:2.0
CALSCALE:GREGORIAN
PRODID:-//MyApp//Calendar 1.0//EN
BEGIN:VEVENT
METHOD:PUBLISH
UID:31179@regionalniportaly.cz
DTSTAMP:20260423T074412Z
DTSTART;VALUE=DATE:20230214
DTEND;VALUE=DATE:20230215
SUMMARY:Klavírní recitál Igora Ardaševa
DESCRIPTION:Klavírní mág mezinárodního renomé Igor Ardašev uvede recitál z děl W. A. Mozarta\, L. van Beethovena a R. Schumanna.\nZačátek v 18 hodin.\nV rámci spolupráce se ZUŠ Třebíč vystoupí před Igorem Ardaševem žáci 3. ročníku II. stupně a to Jakub Března\, který zahraje na klavír skladbu Sergeje Rachmaninova – Etuda g moll op. 33\, č. 8 a Tomáš Bárta – Fryderyk Chopin – Etuda Ges dur op. 25\, č. 9. Program připravil Mgr. Vít Košíček.\nVstupné: 180 Kč\, děti\, studenti\, senioři: 140 Kč\nPředprodej od 17. 1. 2023
LOCATION:Třebíč
END:VEVENT
END:VCALENDAR