BEGIN:VCALENDAR
VERSION:2.0
CALSCALE:GREGORIAN
PRODID:-//MyApp//Calendar 1.0//EN
BEGIN:VEVENT
METHOD:PUBLISH
UID:31419@regionalniportaly.cz
DTSTAMP:20260423T060828Z
DTSTART;VALUE=DATE:20230301
DTEND;VALUE=DATE:20230302
SUMMARY:Spirituál kvartet
DESCRIPTION:Spirituál kvartet je skupina přímo navazující na legendární první československou folkovou kapelu Spirituál kvintet. Kontinuitu s tímto souborem\, významně ovlivňujícím domácí hudební scénu více než šedesát let\, zaručuje nejen návrat k původnímu historickému názvu\, ale především účast Jiřího Holoubka a Veroniky Součkové\, dlouholetých členů Spirituál kvintetu. Své síly spojili se dvěma vynikajícími muzikanty\, zpěvákem\, skladatelem\, banjistou\, hráčem na steel kytaru a kontrabas Zbyňkem Burešem a kytaristou a zpěvákem\, majitelem podmanivého basu Janem Jandou.\nVstupné: 280\,-  290\,-  300\,-\n 
LOCATION:Třebíč
END:VEVENT
END:VCALENDAR