BEGIN:VCALENDAR
VERSION:2.0
CALSCALE:GREGORIAN
PRODID:-//MyApp//Calendar 1.0//EN
BEGIN:VEVENT
METHOD:PUBLISH
UID:31734@regionalniportaly.cz
DTSTAMP:20260423T071338Z
DTSTART;VALUE=DATE:20230325
DTEND;VALUE=DATE:20230326
SUMMARY:Třebíčské loutkařské jaro
DESCRIPTION:
LOCATION:Třebíč
END:VEVENT
END:VCALENDAR