BEGIN:VCALENDAR
VERSION:2.0
CALSCALE:GREGORIAN
PRODID:-//MyApp//Calendar 1.0//EN
BEGIN:VEVENT
METHOD:PUBLISH
UID:31748@regionalniportaly.cz
DTSTAMP:20260423T031012Z
DTSTART;VALUE=DATE:20230420
DTEND;VALUE=DATE:20230430
SUMMARY:Pat & Mat: interaktivní výstava pro děti
DESCRIPTION:
LOCATION:Třebíč
END:VEVENT
END:VCALENDAR