BEGIN:VCALENDAR
VERSION:2.0
CALSCALE:GREGORIAN
PRODID:-//MyApp//Calendar 1.0//EN
BEGIN:VEVENT
METHOD:PUBLISH
UID:31930@regionalniportaly.cz
DTSTAMP:20260423T031003Z
DTSTART;VALUE=DATE:20230413
DTEND;VALUE=DATE:20230414
SUMMARY:Telemannia
DESCRIPTION:MARTA KRATOCHVÍLOVÁ – barokní traverso a pikola\, MARIAN FRIEDL – kontrabas\nVirtuózní skladby G. F. Telemanna pro barokní příčnou flétnu za doprovodu jazzového hráče na kontrabas přinesou jedinečné hudební setkání a nevšední inspiraci. \nVstupné: 180\,-  děti\, studenti\, senioři: 140\,-\nPředprodej od 16. 3. 2023
LOCATION:Třebíč
END:VEVENT
END:VCALENDAR