BEGIN:VCALENDAR
VERSION:2.0
CALSCALE:GREGORIAN
PRODID:-//MyApp//Calendar 1.0//EN
BEGIN:VEVENT
METHOD:PUBLISH
UID:31932@regionalniportaly.cz
DTSTAMP:20260423T021442Z
DTSTART;VALUE=DATE:20230425
DTEND;VALUE=DATE:20230426
SUMMARY:Daniel Hůlka (bas) a Jakub Pustina (tenor)
DESCRIPTION:Unikátní pěvecký projekt "POP nebo OPERA" spojující dva hudební žánry. Koncert\, na kterém za klavírního doprovodu Marty Vaškové vystoupí muzikálová legenda Daniel Hůlka a tenorista s nezaměnitelným hlasem Jakub Pustina.\nVstupné: 210\,-   230\,-\nPředprodej od 28. 3. 2023
LOCATION:Třebíč
END:VEVENT
END:VCALENDAR