BEGIN:VCALENDAR
VERSION:2.0
CALSCALE:GREGORIAN
PRODID:-//MyApp//Calendar 1.0//EN
BEGIN:VEVENT
METHOD:PUBLISH
UID:31936@regionalniportaly.cz
DTSTAMP:20260422T215802Z
DTSTART;VALUE=DATE:20230609
DTEND;VALUE=DATE:20230610
SUMMARY:Matador - 50 let
DESCRIPTION:Kapela Matador slaví 50 let - živě!Přijďte společně s námi oslavit 50 let na scéně.Na Podzámecké nivě v Třebíči se ohlédneme zpět v čase a připomeneme si\, jak Matador uměl hrát posledních 50 let. Nejedná se o čas loučení\, ale o velkolepou oslavu\, na kterou si Vás tímto dovolujeme srdečně pozvat!Při této příležitosti přivítáme také velevážené hosty - kapelu Progres 2\, která tento rok slaví svých 55 let na scéně.... a kapely BUSH3 a Gender Question.  Vstupné v předprodeji: 290 Kč\, děti do 12 let v doprovodu rodičů mají vstup zdarmaVstupné na místě: 390 Kč
LOCATION:Třebíč
END:VEVENT
END:VCALENDAR