BEGIN:VCALENDAR
VERSION:2.0
CALSCALE:GREGORIAN
PRODID:-//MyApp//Calendar 1.0//EN
BEGIN:VEVENT
METHOD:PUBLISH
UID:32733@regionalniportaly.cz
DTSTAMP:20260421T225807Z
DTSTART;VALUE=DATE:20230509
DTEND;VALUE=DATE:20230510
SUMMARY:JNR Robinson & "B´r´and of Gospel" (UK/CZ)
DESCRIPTION:19.00 – Národní dům                       /stolová úprava/                   \nJNR ROBINSON &amp\; „B´r´and od Gospel“ (UK/CZ)\nSOUL &amp\; GOSPEL\nJunior Robinson (UK) – zpěv\, Jakub Zomer – hammond klávesy\, Jan Tengler – baskytara\, Martin Kopřiva – bicí\nSerge Robinson Jr je londýnský gospelový zpěvák\, původem z Jamajky. Respektive zpěvák\, skladatel\,  producent\,  herec\, učitel zpěvu\, stálý vedoucí gospelového sboru v jižním Londýně a příležitostný vedoucí kostelních sborů po farnostech celé Británie. Absolvent South London College v Norwoodu\, vyučující na Natural Voice Perfection Institutu… Zpívá od čtyř let\, v sezóně 1994/1995 byl jmenován nejlepším gospelovým zpěvákem Británie\, prošel muzikálovými divadly ve West Endu\, zpíval dvěma papežům\, zpíval i doprovodné vokály na turné Michaela Boltona… Na koncertním turné ho doprovodí tři špičkoví čeští jazzoví muzikanti.\nVstupné: 180\,-\nPředprodej od 11. 4. 2023
LOCATION:Třebíč
END:VEVENT
END:VCALENDAR