BEGIN:VCALENDAR
VERSION:2.0
CALSCALE:GREGORIAN
PRODID:-//MyApp//Calendar 1.0//EN
BEGIN:VEVENT
METHOD:PUBLISH
UID:32739@regionalniportaly.cz
DTSTAMP:20260421T165759Z
DTSTART;VALUE=DATE:20230622
DTEND;VALUE=DATE:20230624
SUMMARY:Chlístovský HEJK 2023
DESCRIPTION:Multižánrový festival hudby a jídla\nPředprodej vstupenek:- 890 Kč / 3 dny- koupíte v Restauraci Kocour v Třebíči- nebo online zde: https://tickets.nfctron.com/event/kultura-chlistov-zs/chlistovsky-hejk-2023\nPotvrzené kapely:Pro-Pain (USA)N.O.H.A. (USA/CZ)Gaia MesiahSmash Hit Combo (FR)Midi LidiFuturumSPSMalignant TumourXavier BaumaxaČankišouNarvan tribute bandJezerelHonza KřížekStatus PraesentsZávišEponineStará PuškaNarijuanaKoonda HolaaONAByt číslo 4Sightless EraSbor břežanských kastrátů\n \nVíce info již brzy!
LOCATION:Chlístov
END:VEVENT
END:VCALENDAR