BEGIN:VCALENDAR
VERSION:2.0
CALSCALE:GREGORIAN
PRODID:-//MyApp//Calendar 1.0//EN
BEGIN:VEVENT
METHOD:PUBLISH
UID:33115@regionalniportaly.cz
DTSTAMP:20260421T224004Z
DTSTART;VALUE=DATE:20230629
DTEND;VALUE=DATE:20230630
SUMMARY:LiStOVáNí: Jaroslav Hašek. Švejk 2023
DESCRIPTION:Hašek i Švejk mají výročí! Už 100 let Švejk reflektuje naši společnost\, stejně jako aktualizovaná verze LiStOVáNí\, která glosuje současné společenské a politické dění.&nbsp\;Těšte se na to\, jak se Švejkovy legendární promluvy potkají se současným Českem\, protože málokteré literární dílo je stále tak aktuální jako Švejk.- účinkují: Alan Novotný a Jiří Ressler&nbsp\;Vstupné 100 Kč v předprodeji\, 120 Kč na místě. Předprodej v internetové studovně nebo na www.smsticket.cz. Do naplnění kapacity sálu.
LOCATION:Třebíč
END:VEVENT
END:VCALENDAR