BEGIN:VCALENDAR
VERSION:2.0
CALSCALE:GREGORIAN
PRODID:-//MyApp//Calendar 1.0//EN
BEGIN:VEVENT
METHOD:PUBLISH
UID:33384@regionalniportaly.cz
DTSTAMP:20260421T212039Z
DTSTART;VALUE=DATE:20230814
DTEND;VALUE=DATE:20230815
SUMMARY:The CELLO Boys a Filharmonie Bohuslava Martinů Zlín
DESCRIPTION:ZAHAJOVACÍ KONCERT OSLAV 20 LET UNESCO\n Kapela The CELLO Boys již uchvátila spoustu posluchačů jak u nás\, tak v zahraničí. Když se však spojí s Filharmonií Bohuslava Martinů\, zvuk vás naprosto pohltí.Tradiční nástroje\, netradiční koncert. The CELLO Boys a Filharmonie Bohuslava Martinů Zlín vám předvedou ty nejznámější skladby AC/DC\, Nirvana\, Iron Maiden\, ale také nové DubStep/DnB autorské pecky. Pop-rocková koncertní show The CELLO Boys a Filharmonie Bohuslava Martinů Zlín rozzáří nejen vaše oči\, ale také uši. Uslyšíte nejznámější hity a zcela nové virtuozní autorské skladby. Užijte si spoustu zvuku a emocí na jednom místě.\nVstupné od 24. 4. do 31. 5.: 350 KčVstupné od 1. 6. do 14. 8.: 450 KčVstupné na místě: 550 KčDěti do 12ti let v doprovodu rodičů zdarma.
LOCATION:Třebíč
END:VEVENT
END:VCALENDAR