BEGIN:VCALENDAR
VERSION:2.0
CALSCALE:GREGORIAN
PRODID:-//MyApp//Calendar 1.0//EN
BEGIN:VEVENT
METHOD:PUBLISH
UID:33777@regionalniportaly.cz
DTSTAMP:20260422T051715Z
DTSTART;VALUE=DATE:20231201
DTEND;VALUE=DATE:20231202
SUMMARY:Ragnarock N´Roll Tour: Cocotte Minute\, Deloraine
DESCRIPTION:Svět se zastaví a vaše těla se rozhoupou v pohanském rytmu ZLLA!!! Sado disco úderka Cocotte Minute vyráží společně s pagan folkaři Deloraine na velké společné turné.1.12. zapálíme Třebíč a tvou duší protáhneme party pekelnou\, na kterou nezapomeneš!!!Připrav se na hutné tóny\, nikdy neutuchající příval energie\, hymnické refreny a super atmosféru.
LOCATION:Třebíč
END:VEVENT
END:VCALENDAR