BEGIN:VCALENDAR
VERSION:2.0
CALSCALE:GREGORIAN
PRODID:-//MyApp//Calendar 1.0//EN
BEGIN:VEVENT
METHOD:PUBLISH
UID:33804@regionalniportaly.cz
DTSTAMP:20260422T201256Z
DTSTART;VALUE=DATE:20230701
DTEND;VALUE=DATE:20230702
SUMMARY:Svatoprokopská pouť
DESCRIPTION:
LOCATION:Třebíč
END:VEVENT
END:VCALENDAR