BEGIN:VCALENDAR
VERSION:2.0
CALSCALE:GREGORIAN
PRODID:-//MyApp//Calendar 1.0//EN
BEGIN:VEVENT
METHOD:PUBLISH
UID:33917@regionalniportaly.cz
DTSTAMP:20260422T231135Z
DTSTART;VALUE=DATE:20230714
DTEND;VALUE=DATE:20230716
SUMMARY:Oživené židovské město
DESCRIPTION:PÁTEK 14. 7. 2023Hlavní program16:00 Roztančený start festivalu s tanečním souborem Yocheved16:15 Frída Oratorová s cimbálem - netradiční pojetí známých písní mladičké umělkyně17:30 Laky Mari - alternativní folk\, autorské písně třebíčského dua18:00 Taxmetu - kramářské písně v podání Honzy a Zity - mapa č. 519:00 Mackie Messer Klezmer Band - koncert klezmerové kapely\nDoprovodný program8:00 - 14:00 Vodácké muzeum - vodácké muzeum otevře své dveře nejen milovníkům turistiky (Havlíč. nábř. 121/ 45) - mapa č. 710:00 - 18:00 Dílna plná řemesel - přijďte si vytvořit pískový obrázek\, malovat na keramiku nebo koupit hotové výrobky (L. Pokorného 10/ 3)  - mapa č. 410:00 - 23:00 Městská věž - podívejte se nejen na židovskou čtvrť z výšky (polední pauza 12:00 - 12:30)16:00 - 19:00 Oblastní charita Třebíč - seznamte se s aktivitami místní charity (L. Pokorného 58/15)- mapa č. 317:00 - 19:00 Keramická dílna Joannah - modelování a točení na hrnčířském kruhu aneb přijďte tvořit s hlínou - mapa č. 6        SOBOTA 15. 7. 2023Hlavní program8:00 - 11:00 Snídaně pod lípou - začněte nový den vydatnou snídaní U Židovské brány - mapa č. 59:30 Ranní budíček s Mackie Messer Klezmer Band10:00 Račte vstoupit k Bauerům - Kostýmované prohlídky Domu SeligmannaBauera (DS Ampulka) - mapa č. 2Počet míst omezen\, rezervace nutná: 568 610 023\, vstupné: plné 250 Kč\, snížené 190 Kč\, rodinné 690 Kč10:30 Laky Mari - alternativní folk\, autorské písně třebíčského dua - mapa č. 511:00 Račte vstoupit k Bauerům - Kostýmované prohlídky Domu SeligmannaBauera (DS Ampulka) - mapa č. 2Počet míst omezen\, rezervace nutná: 568 610 023\, vstupné: plné 250 Kč\, snížené 190 Kč\, rodinné 690 Kč11:30 Mackie Messer Klezmer band - muzicírování u lípy - mapa č. 512:30 Notochod v mracích - přijďte se pobavit s muzikanty na chůdách z divadla 100 Opic (uličky židovské čtvrti)13:00 Taxmetu - kramářské písně v podání Honzy a Zity - mapa č. 513:30 Tančení před Zadní synagogou - třebíčský taneční soubor Yocheved14:00 Račte vstoupit k Bauerům - Kostýmované prohlídky Domu SeligmannaBauera (DS Ampulka) - mapa č. 2Počet míst omezen\, rezervace nutná: 568 610 023\, vstupné: plné 250 Kč\, snížené 190 Kč\, rodinné 690 Kč14:30 Odpolední procházka s Notochodem v mracích - muzikanti na chůdách z divadla 100 Opic (uličky židovské čtvrti)15:15 Mackie Messer Klezmer Band - koncert klezmerové kapely16:00 Móda První republiky - dobová módní přehlídka v podání spolku Míša &amp\; Míša17:00 Tančení před Zadní synagogou - třebíčský taneční soubor Yocheved18:00 Modche a Rézi - Rézina poslední hodinka - veselohra v podání DS Ampulka v Zadní synagoze - mapa č. 2Počet míst omezen\, rezervace nutná: 568 610 023\, vstupné: plné 70 Kč\, snížené 50 Kč20:00 Schimmerle Klezmer Kabaret - koncert klezmerové kapely\nDoprovodný program9:00 - 18:00 Výstava Četnické pátrací stanice Pardubice na náměstíčku před Zadní synagogou10:00 - 16:00 Keramická dílna Joannah - modelování a točení na hrnčířském kruhu aneb přijďte tvořit s hlínou - mapa č. 610:00 - 16:00 Oblastní charita Třebíč - seznamte se s aktivitami místní charity (L. Pokorného 58/15)- mapa č. 310:00 - 18:00 Vodácké muzeum - vodácké muzeum otevře své dveře nejen milovníkům turistiky (Havlíč. nábř. 121/45) - mapa č. 710:00 - 18:00 Dílna plná řemesel - přijďte si vytvořit pískový obrázek\, malovat na keramiku nebo koupit hotové výrobky (L. Pokorného 10/3) - mapa č. 410:00 - 23:00 Městská věž - podívejte se nejen na židovskou čtvrť z výšky (polední pauza 12:00 - 12:30)14:00 - 17:00 Vzhůru k výškám! - vyzkoušejte si zdolat lezeckou stěnu v budově Oblastní charity(L. Pokorného 58/15) - mapa č. 3        \nNEDĚLE 16. 7. 2023Hlavní program8:00 - 11:00 Snídaně pod lípou - začněte nový den vydatnou snídaní U Židovské brány - mapa č. 59:00 Příjezd historické hasičské techniky a její výstava před Zadní synagogou  (Hasičské muzeum Heraltice)9:30 Velký Fuk - ranní pohádka pro děti v Zadní synagoze (Divadlo Kufr) - mapa č. 2Počet míst omezen\, rezervace nutná: 568 610 023\, jednotné vstupné 50 Kč  10:00 Mackie Messer Klezmer Band - dopolední muzicírování u lípy - mapa č. 510:15 Žonglérská dílna v Zadní synagoze (Divadlo Kufr) - mapa č. 211:00 Ukázka hašení před synagogou historickou hasičskou technikou z konce 19. století12:00 Schimmerle Klezmer Kabaret  - koncert klezmerové kapely13:00 Modche a Rézi - veselohra tentokrát v podání loutkového divadla Starost v Zadní synagoze- mapa č. 2Počet míst omezen\, rezervace nutná: 568 610 023\, jednotné vstupné 50 Kč14:00 Hasiči v akci: ukázka hašení historickou hasičskou stříkačkou z první poloviny 20. století s použitím hasičského žebříku z roku 189615:00 Django Jet - rozloučení v rytmu swingu a francouzského gipsy jazzu před Zadní synagogou\nDoprovodný program10:00 - 12:00 Vodácké muzeum - vodácké muzeum otevře své dveře nejen milovníkům turistiky (Havlíč. nábř. 121/45) - mapa č. 710:00 - 16:00 Keramická dílna Joannah - modelování a točení na hrnčířském kruhu aneb přijďte tvořit s hlínou - mapa č. 610:00 - 15:00 Dílna plná řemesel - přijďte si vytvořit pískový obrázek\, malovat na keramiku nebo koupit hotové výrobky (L. Pokorného 10/3) - mapa č. 4\n \nNa co se můžete ještě těšit?Výstava na dvorku u Bauerů: Veselé putování židovskou historií - ilustrace z knihy Cha cha chá\, zasmál se Mordechaj.Uličník Mordechaj vás provede deseti stoletími a seznámí vás s pozoruhodnými osudy Židů\, kteří se usadili v Čechách.Autory knihy a výstavy jsou Klára Smolíková\, Tobiáš Smolík a ilustrátor Vojtěch Šeda. - mapa č. 2Historický kolotoč u lípy - mapa č. 5Flašinetář Jan Bondra - mapa č. 5 nebo v uličkáchMuzicírování v uličkáchObjevování židovské historie se Skrytými příběhy (mobilní hra pro zvídavé děti a hravé rodiče)\nPokud není uvedeno jinak\, koná se program před Zadní synagogou - mapa č.1.\nZměna programu vyhrazena.Rezervace vstupenek od 1. 7. 2023.
LOCATION:Třebíč
END:VEVENT
END:VCALENDAR